BEGIN:VCALENDAR
PRODID:-//eluceo/ical//2.0/EN
VERSION:2.0
CALSCALE:GREGORIAN
BEGIN:VEVENT
UID:8a36ac082f18d764dc9843c37fc88a56
DTSTAMP:20260424T183223Z
SUMMARY:Yom HaShoah Commemoration CAA
DESCRIPTION:Jewish Federation of New Hampshire\nCommunity Calendar\nhttps:/
 /jewishnh.org/community-calendar/yom-hashoah-commemoration-caa\n\nCAA invi
 tes you to an intimate memorial gathering as we remember the six million J
 ews who perished in the Holocaust. We will reflect on how our own lives we
 re touched by the Shoah and pay our respects to the dead through words and
  prayer. More information: 352-6747
DTSTART;TZID=America/New_York:20180411T190000
DTEND;TZID=America/New_York:20180411T200000
END:VEVENT
END:VCALENDAR
