BEGIN:VCALENDAR
PRODID:-//eluceo/ical//2.0/EN
VERSION:2.0
CALSCALE:GREGORIAN
BEGIN:VEVENT
UID:f5434da4a2f521409bd363b5443ca036
DTSTAMP:20260423T125658Z
SUMMARY:Yom HaShoah Commemoration TBA
DESCRIPTION:Jewish Federation of New Hampshire\nCommunity Calendar\nhttps:/
 /jewishnh.org/community-calendar/yom-hashoah-commemoration-tba\n\nThe feat
 ured speaker will be Margot Schrader\, daughter of a Holocaust survivor. T
 BA's Zimria Choir will perform with the Nashua Community Interfaith Choir 
 at this observation. A question and answer session and a candle lighting c
 eremony memorializing the victims of the Holocaust will follow the present
 ation. This program is in collaboration with Rivier University. This event
  is free and open to the public. No RSVP is required. More information She
 ryl Rich-Kern: 881-7264 or sherylrichkern@gmai...
DTSTART;TZID=America/New_York:20180411T190000
DTEND;TZID=America/New_York:20180411T200000
END:VEVENT
END:VCALENDAR
