BEGIN:VCALENDAR
PRODID:-//eluceo/ical//2.0/EN
VERSION:2.0
CALSCALE:GREGORIAN
BEGIN:VEVENT
UID:9aa8fcffbc2b148e823d0f45f9fcb042
DTSTAMP:20260422T051826Z
SUMMARY:Yom HaShoah Event Featuring Author Judy Batalion
DESCRIPTION:Jewish Federation of New Hampshire\nCommunity Calendar\nhttps:/
 /jewishnh.org/community-calendar/yom-hashoah-event-featuring-author-judy-b
 atalion-1675186830\n\nTemple Beth Abraham and Rivier University invite the
  public to hear New York Times bestselling author Judy Batalion discuss he
 r book\, “The Light of Days: The Untold Story of Women Resistance Fighte
 rs in Hitler’s Ghettos.”\n\nThe event is made possible with support fr
 om New Hampshire Humanities\, in partnership with the National Endowment f
 or the Humanities. Learn more at www.nhhumanities.org.\n\nThis event is fr
 ee and open to all!\n\nIt will take place at Rivier University.
DTSTART;TZID=America/New_York:20230418T190000
DTEND;TZID=America/New_York:20230418T210000
END:VEVENT
END:VCALENDAR
