BEGIN:VCALENDAR
PRODID:-//eluceo/ical//2.0/EN
VERSION:2.0
CALSCALE:GREGORIAN
BEGIN:VEVENT
UID:664b10de5d164903a00e54b552c501c7
DTSTAMP:20260423T013057Z
SUMMARY:Yom Hashoah Holocaust Remembrance Program With Rivier University: T
 om White
DESCRIPTION:Jewish Federation of New Hampshire\nCommunity Calendar\nhttps:/
 /jewishnh.org/community-calendar/yom-hashoah-holocaust-remembrance-program
 -with-rivier-university-tom-white-1648592137\n\nThis program will take pla
 ce at the Dion Center\, Rivier University\, 16 Clement Street in NashuaIn 
 collaboration\, Temple Beth Abraham and Rivier University welcome Tom Whit
 e of the Cohen Center for Holocaust and Genocide Studies at Keene State Co
 llege\, who will present on "Remembrance\, Education and Resiliency.” Wh
 ite will discuss the relevancy of Holocaust and genocide education. How do
  we use it to promote civic engagement against the escalating violence tha
 t leads to atrocity and genocide...
DTSTART;TZID=America/New_York:20220428T190000
DTEND;TZID=America/New_York:20220428T203000
END:VEVENT
END:VCALENDAR
