BEGIN:VCALENDAR
PRODID:-//eluceo/ical//2.0/EN
VERSION:2.0
CALSCALE:GREGORIAN
BEGIN:VEVENT
UID:2490df16b84408d5ffaa41f3c79bb692
DTSTAMP:20260422T095000Z
SUMMARY:Yom Hashoah LIBERATORS\, American Servicemen Confront the Holocaust
DESCRIPTION:Jewish Federation of New Hampshire\nCommunity Calendar\nhttps:/
 /jewishnh.org/community-calendar/yom-hashoah-liberators-american-serviceme
 n-confront-the-holocaust-1678479043\n\nPlease join Temple Israel Portsmout
 h for a special Yom Hashoah observance.\n\nGuest speaker Dr. Louis Levine 
 offers a perspective on the Shoah that is rarely addressed. It focuses on 
 the relatively small group of Americans who initially encountered the spec
 ial hell of the Nazi camps in the last weeks of the war in Europe – what
  they saw\, how they reacted\, how they processed it.\n\nDr. Levine draws 
 primarily on interviews with GIs recorded for the award-winning exhibition
  "Ours To Fight For:...
DTSTART;TZID=America/New_York:20230418T190000
DTEND;TZID=America/New_York:20230418T200000
END:VEVENT
END:VCALENDAR
