BEGIN:VCALENDAR
PRODID:-//eluceo/ical//2.0/EN
VERSION:2.0
CALSCALE:GREGORIAN
BEGIN:VEVENT
UID:4fdc8a44fa0e28481b6c746817e97223
DTSTAMP:20260422T030009Z
SUMMARY:Yom Hashoah Program at Etz Hayim
DESCRIPTION:Jewish Federation of New Hampshire\nCommunity Calendar\nhttps:/
 /jewishnh.org/community-calendar/yom-hashoah-program-at-etz-hayim-16784628
 33\n\nFollowing Rabbi Levy's short introduction\, Milt Zweig will present 
 his stimulating and essential program.
DTSTART;TZID=America/New_York:20230416T190000
DTEND;TZID=America/New_York:20230416T210000
END:VEVENT
END:VCALENDAR
