BEGIN:VCALENDAR
PRODID:-//eluceo/ical//2.0/EN
VERSION:2.0
CALSCALE:GREGORIAN
BEGIN:VEVENT
UID:5a0cbadb5c16a5fed1393157b0e36b2a
DTSTAMP:20260424T044917Z
SUMMARY:Yom Hashoah Remembrance
DESCRIPTION:Jewish Federation of New Hampshire\nCommunity Calendar\nhttps:/
 /jewishnh.org/community-calendar/yom-hashoah-remembrance-1586724669\n\nStr
 eaming Online starting Thursday\, April 23 at 7 PM sponsored by Etz Hayim 
 Synagogue. Laurie Medrek will be sharing her family's experience during th
 e Holocausts. As the number of survivors continues to decline\, it is up t
 o us to make sure their stories are told and re-told so the world will nev
 er forget.\n\nTo register\, email request to: office@etzhayim.org
DTSTART;TZID=America/New_York:20200423T190000
DTEND;TZID=America/New_York:20200423T203000
END:VEVENT
END:VCALENDAR
