BEGIN:VCALENDAR
PRODID:-//eluceo/ical//2.0/EN
VERSION:2.0
CALSCALE:GREGORIAN
BEGIN:VEVENT
UID:981eb72b373d2cfe8b97e5c28b13e5c0
DTSTAMP:20260423T011508Z
SUMMARY:Yom HaShoah Remembrance Concert
DESCRIPTION:Jewish Federation of New Hampshire\nCommunity Calendar\nhttps:/
 /jewishnh.org/community-calendar/yom-hashoah-remembrance-concert-155373821
 9\n\nYom a HaShoah Remebrance Concert at Etz Hayim. 1 1/2 Hood Rd. Derry. 
 Everyone is welcome. No charge.
DTSTART;TZID=America/New_York:20190501T190000
DTEND;TZID=America/New_York:20190501T210000
END:VEVENT
END:VCALENDAR
