BEGIN:VCALENDAR
PRODID:-//eluceo/ical//2.0/EN
VERSION:2.0
CALSCALE:GREGORIAN
BEGIN:VEVENT
UID:b7a7c5e66edad5a0dc8c6e7f04835585
DTSTAMP:20260424T020935Z
SUMMARY:Yom HaShoah Service at Temple Adath Yeshurun
DESCRIPTION:Jewish Federation of New Hampshire\nCommunity Calendar\nhttps:/
 /jewishnh.org/community-calendar/yom-hashoah-service-at-temple-adath-yeshu
 run-1560692353\n\nYom HaShoah Service at Temple Adath Yeshurun.\n\nRabbi S
 tephen Fuchs and Vickie Fuchs will present the program.
DTSTART;TZID=America/New_York:20200420T190000
DTEND;TZID=America/New_York:20200420T210000
END:VEVENT
END:VCALENDAR
