BEGIN:VCALENDAR
PRODID:-//eluceo/ical//2.0/EN
VERSION:2.0
CALSCALE:GREGORIAN
BEGIN:VEVENT
UID:25c76d8047e11bad5cc98cc78b6de5b2
DTSTAMP:20260423T090159Z
SUMMARY:Yom HaShoah Service TAY
DESCRIPTION:Jewish Federation of New Hampshire\nCommunity Calendar\nhttps:/
 /jewishnh.org/community-calendar/yom-hashoah-service-tay\n\n.
DTSTART;TZID=America/New_York:20180411T190000
DTEND;TZID=America/New_York:20180411T200000
END:VEVENT
END:VCALENDAR
