BEGIN:VCALENDAR
PRODID:-//eluceo/ical//2.0/EN
VERSION:2.0
CALSCALE:GREGORIAN
BEGIN:VEVENT
UID:af3760a5026e34bf9931b0eaee4f594d
DTSTAMP:20260421T221724Z
SUMMARY:Yom HaZikaron
DESCRIPTION:Jewish Federation of New Hampshire\nCommunity Calendar\nhttps:/
 /jewishnh.org/community-calendar/yom-hazikaron2026\n\nYom HaZikaron for He
 brew Year 5786 begins at sundown on Monday\, 20 April 2026 and ends at nig
 htfall on Tuesday\, 21 April 2026.\n\nIsraeli Memorial Day. Remembers thos
 e who died in the War of Independence and other wars in Israel. 
DTSTART;TZID=America/New_York:20260420T000000
DTEND;TZID=America/New_York:20260421T235959
END:VEVENT
END:VCALENDAR
