BEGIN:VCALENDAR
PRODID:-//eluceo/ical//2.0/EN
VERSION:2.0
CALSCALE:GREGORIAN
BEGIN:VEVENT
UID:9c59962af7512b59791c311b22c89eb1
DTSTAMP:20260422T105521Z
SUMMARY:Yom Kippur
DESCRIPTION:Jewish Federation of New Hampshire\nCommunity Calendar\nhttps:/
 /jewishnh.org/community-calendar/yom-kippur\n\nBegins sunset Tuesday\, Oc
 tober 4\, 2022\nEnds evening Wednesday\, October 5\, 2022
DTSTART;TZID=America/New_York:20221004T000000
DTEND;TZID=America/New_York:20221005T235959
END:VEVENT
END:VCALENDAR
