BEGIN:VCALENDAR
PRODID:-//eluceo/ical//2.0/EN
VERSION:2.0
CALSCALE:GREGORIAN
BEGIN:VEVENT
UID:13eadcf6d2cb2c32ab212316f4728ac4
DTSTAMP:20260422T111212Z
SUMMARY:Yom Kippur Services at Temple B'nai Israel
DESCRIPTION:Jewish Federation of New Hampshire\nCommunity Calendar\nhttps:/
 /jewishnh.org/community-calendar/yom-kippur-services-at-temple-bnai-israel
 -1628041959\n\nTemple B'nai Israel offers hybrid High Holiday services\, w
 ith attendance in-person or on Zoom. Visit the website for complete detail
 s.
DTSTART;TZID=America/New_York:20210916T100000
DTEND;TZID=America/New_York:20210916T120000
END:VEVENT
END:VCALENDAR
