BEGIN:VCALENDAR
PRODID:-//eluceo/ical//2.0/EN
VERSION:2.0
CALSCALE:GREGORIAN
BEGIN:VEVENT
UID:c7d19dd32dfa1595716cc5135d78489f
DTSTAMP:20260422T102708Z
SUMMARY:Young Adults Chanukah party
DESCRIPTION:Jewish Federation of New Hampshire\nCommunity Calendar\nhttps:/
 /jewishnh.org/community-calendar/young-adults-canukah-party\n\nWe're happy
  to invite you to the first young adult Chanukah party in New Hampshire! 
 \nWe will have great food (pot luck)\, latkes\, Yankee swap\, candle light
 ing and you can bring you favorite board games! \n\n 
DTSTART;TZID=America/New_York:20231214T063000
DTEND;TZID=America/New_York:20231214T213000
END:VEVENT
END:VCALENDAR
