BEGIN:VCALENDAR
PRODID:-//eluceo/ical//2.0/EN
VERSION:2.0
CALSCALE:GREGORIAN
BEGIN:VEVENT
UID:648c59e3d99cc4a4fdf09213a154db34
DTSTAMP:20260422T184101Z
SUMMARY:Young Family Shabbat
DESCRIPTION:Jewish Federation of New Hampshire\nCommunity Calendar\nhttps:/
 /jewishnh.org/community-calendar/young-family-shabbat-1680700834\n\nA chil
 d friendly musical Shabbat service with snack and play time. Best fit for 
 children under six\, and all are welcome!
DTSTART;TZID=America/New_York:20230513T093000
DTEND;TZID=America/New_York:20230513T113000
END:VEVENT
END:VCALENDAR
