BEGIN:VCALENDAR
PRODID:-//eluceo/ical//2.0/EN
VERSION:2.0
CALSCALE:GREGORIAN
BEGIN:VEVENT
UID:96ccd7dfdb0ad75bf99a8fa5fcccfa80
DTSTAMP:20260422T162908Z
SUMMARY:Young Mensches Paint War
DESCRIPTION:Jewish Federation of New Hampshire\nCommunity Calendar\nhttps:/
 /jewishnh.org/community-calendar/young-mensches-paint-war\n\nHi Mensches\n
 \nthe Jewish Federation of New Hampshire and OSG Paintball invites you to 
 a **subsidize** LOW IMPACT Paintball event - just for our Mensches! :D\n\n
 We will meet on June 30th at 12:45 pm at OSG Paintball \nWe will get ALL t
 he equipment from them\nWear comfortable shoes!\nWe will play from 1 to 4p
 m\nNoam's cell is 603-851-5088\n\nRSVP on this event a MUST\nInstead of $2
 9 per person --- only $15!!\n*Bring exact cash or pay with a card ahead of
  time at 603-851-5088*\n\nDo not miss th...
DTSTART;TZID=America/New_York:20190630T124500
DTEND;TZID=America/New_York:20190630T160000
END:VEVENT
END:VCALENDAR
