BEGIN:VCALENDAR
PRODID:-//eluceo/ical//2.0/EN
VERSION:2.0
CALSCALE:GREGORIAN
BEGIN:VEVENT
UID:a0cb4ef29b545b498a1c5b323835074b
DTSTAMP:20260422T071139Z
SUMMARY:Zikaron Basalon - Memories in the Living room
DESCRIPTION:Jewish Federation of New Hampshire\nCommunity Calendar\nhttps:/
 /jewishnh.org/community-calendar/zikaron-basalon-bow\n\nZikaron BaSalon tr
 anslates to "remembering in the living room" where a holocaust survivor or
  descendant share their story in in intimate setting with a small group of
  people. \n\nThis event will be held on April 28th at 7PM in Bow (exact ad
 dress with be shared after registration) and will be limited to 15 partici
 pates. \n\nThe program is meant for an adult crowd and will be led by a de
 scendant of a holocaust survivor.\n\nThis event will follow the following 
 Covid protocols:\n1. Masks will be ...
DTSTART;TZID=America/New_York:20220428T190000
DTEND;TZID=America/New_York:20220428T203000
END:VEVENT
END:VCALENDAR
