BEGIN:VCALENDAR
PRODID:-//eluceo/ical//2.0/EN
VERSION:2.0
CALSCALE:GREGORIAN
BEGIN:VEVENT
UID:bdc7d3a00a69950806713e5c892fa343
DTSTAMP:20260422T212816Z
SUMMARY:Zikaron BaSalon with Bodo Schrader\, Bedford
DESCRIPTION:Jewish Federation of New Hampshire\nCommunity Calendar\nhttps:/
 /jewishnh.org/community-calendar/zikaron-basalon-with-bodo-schrader-bedfor
 d\n\nHow do you commemorate the Holocaust?\nZikaron BaSalon is a social in
 itiative which takes place on the Israeli Holocaust Memorial Day. Literall
 y meaning "Remembrance in the living room" in Hebrew. \nZikaron BaSalon o
 ffers a new\, engaging and intimate way to commemorate this day and its si
 gnificance\, through discussions at home among family\, friends\, and gues
 ts. Alongside formal Holocaust ceremonies\, this unique and authentic trad
 ition invites people to gather and together express\, discuss\, a...
DTSTART;TZID=America/New_York:20190502T183000
DTEND;TZID=America/New_York:20190502T203000
END:VEVENT
END:VCALENDAR
