BEGIN:VCALENDAR
PRODID:-//eluceo/ical//2.0/EN
VERSION:2.0
CALSCALE:GREGORIAN
BEGIN:VEVENT
UID:5174b26881d1731a839fca161ede23a3
DTSTAMP:20260423T203331Z
SUMMARY:Zikaron BaSalon with Bodo Schrader\, Nashua
DESCRIPTION:Jewish Federation of New Hampshire\nCommunity Calendar\nhttps:/
 /jewishnh.org/community-calendar/zikaron-basalon-with-bodo-schrader-nashua
 \n\nHow do you commemorate the Holocaust?\nZikaron BaSalon is a social ini
 tiative which takes place on the Israeli Holocaust Memorial Day. Literally
  meaning "Remembrance in the living room" in Hebrew. \nZikaron BaSalon of
 fers a new\, engaging and intimate way to commemorate this day and its sig
 nificance\, through discussions at home among family\, friends\, and guest
 s. Alongside formal Holocaust ceremonies\, this unique and authentic tradi
 tion invites people to gather and together express\, discuss\, a...
DTSTART;TZID=America/New_York:20190506T183000
DTEND;TZID=America/New_York:20190506T203000
END:VEVENT
END:VCALENDAR
