BEGIN:VCALENDAR
PRODID:-//eluceo/ical//2.0/EN
VERSION:2.0
CALSCALE:GREGORIAN
BEGIN:VEVENT
UID:c96680a8e1e640a295c51c6488fa2945
DTSTAMP:20260423T203341Z
SUMMARY:Zikaron BaSalon with Kati Preston\, Goffstown
DESCRIPTION:Jewish Federation of New Hampshire\nCommunity Calendar\nhttps:/
 /jewishnh.org/community-calendar/zikaron-basalon-with-kati-preston-goffsto
 wn\n\nHow do you commemorate the Holocaust?\nZikaron BaSalon is a social i
 nitiative which takes place on the Israeli Holocaust Memorial Day. Literal
 ly meaning "Remembrance in the living room" in Hebrew. \nZikaron BaSalon 
 offers a new\, engaging and intimate way to commemorate this day and its s
 ignificance\, through discussions at home among family\, friends\, and gue
 sts. Alongside formal Holocaust ceremonies\, this unique and authentic tra
 dition invites people to gather and together express\, discuss\, a...
DTSTART;TZID=America/New_York:20190428T183000
DTEND;TZID=America/New_York:20190428T203000
END:VEVENT
END:VCALENDAR
