BEGIN:VCALENDAR
PRODID:-//eluceo/ical//2.0/EN
VERSION:2.0
CALSCALE:GREGORIAN
BEGIN:VEVENT
UID:28c377161f94707224586729faa60599
DTSTAMP:20260424T061453Z
SUMMARY:Zimria Choir Spring Choral Concert
DESCRIPTION:Jewish Federation of New Hampshire\nCommunity Calendar\nhttps:/
 /jewishnh.org/community-calendar/zimria-choir-spring-choral-concert-155794
 0280\n\nAnnual spring concert for TBA's Zimria Choir.\n\nIncludes cocktail
 s\, mocktails\, hors d’oeuvres\, and dessert.\n\nBabysitting for ages 2-
 11. Supper and a movie.  $5/child.  Please register in advance for babysit
 ting.
DTSTART;TZID=America/New_York:20190519T173000
DTEND;TZID=America/New_York:20190519T193000
END:VEVENT
END:VCALENDAR
