BEGIN:VCALENDAR
PRODID:-//eluceo/ical//2.0/EN
VERSION:2.0
CALSCALE:GREGORIAN
BEGIN:VEVENT
UID:504ea5bf8db27cf2de2c9d1d7b190172
DTSTAMP:20260424T151047Z
SUMMARY:Where The Light Is: Zoom Info Session with Shaliach Guy Ben David
DESCRIPTION:Jewish Federation of New Hampshire\nCommunity Calendar\nhttps:/
 /jewishnh.org/community-calendar/zoom-info-session-with-shaliach-guy-ben-d
 avid\n\nJewish Federation of New Hampshire welcomes our current Shaliach G
 uy Ben David via Zoom. Guy will speak about what's happening right now in
  Israel and how to find the light at the end of the conflict.\n\nFree even
 t. Registration required to receive Zoom information: https://bit.ly/GuyB
 enDavid.
DTSTART;TZID=America/New_York:20231108T190000
DTEND;TZID=America/New_York:20231108T203000
END:VEVENT
END:VCALENDAR
