BEGIN:VCALENDAR
PRODID:-//eluceo/ical//2.0/EN
VERSION:2.0
CALSCALE:GREGORIAN
BEGIN:VEVENT
UID:4d410a4f6307851e34507863135e63a3
DTSTAMP:20260423T040930Z
SUMMARY:Zoom with the New Shaliach!
DESCRIPTION:Jewish Federation of New Hampshire\nCommunity Calendar\nhttps:/
 /jewishnh.org/community-calendar/zoom-with-the-new-shaliach\n\nJoin curren
 t Shaliach Ra'anan de-Haas for a Zoom conversation with incoming Shaliach 
 Guy Ben David. \n\nOpportunity for Q&A\n\n 
DTSTART;TZID=America/New_York:20230611T140000
DTEND;TZID=America/New_York:20230611T160000
END:VEVENT
END:VCALENDAR
